BEGIN:VCALENDAR
PRODID:-//kirchenweb.ch gmbh//veranstaltungsausgabe v2.0//DE
VERSION:2.0
METHOD:PUBLISH
BEGIN:VEVENT
DTSTART:20230708T080000Z
DTEND:20230708T090000Z
LOCATION:Klösterli St. Josef\, Klösterlistrasse 22\, 6430 Schwyz
TRANSP:OPAQUE
SEQUENCE:0
UID:28092-veranstaltung@kirchgemeinde-schwyz.ch
DTSTAMP:20230627T115702Z
DESCRIPTION:Jodlermesse mit dem Jodlerklub Echo vom Mythen\nanlässlich
  der Dorfbächler Chilbi\n\nKontakt:
  margret.strueby@kirchgemeinde-schwyz.ch\n\nWeitere Infos:
  https://www.kirchgemeinde-schwyz.ch/veranstaltung/28092
SUMMARY:Jodlermesse Klösterli St. Josef
PRIORITY:5
X-MICROSOFT-CDO-IMPORTANCE:1
CLASS:PUBLIC
END:VEVENT
END:VCALENDAR
