BEGIN:VCALENDAR
PRODID:-//kirchenweb.ch gmbh//veranstaltungsausgabe v2.0//DE
VERSION:2.0
METHOD:PUBLISH
BEGIN:VEVENT
DTSTART:20241102T163000Z
DTEND:20241102T173000Z
LOCATION:Pfarrkirche Schwyz\, Herrengasse 1\, 6430 Schwyz
TRANSP:OPAQUE
SEQUENCE:0
UID:29641-veranstaltung@kirchgemeinde-schwyz.ch
DTSTAMP:20241009T075346Z
DESCRIPTION:Der Gottesdienst wird übertragen im
  https://upstream-live.ch/live/sacralis-iframe/embed-kschwyz.html. Dieser
  beginnt ca. 10-15 Minuten zuvor.\n\nKontakt: Pfarramt Schwyz\n\nWeitere
  Infos: https://www.kirchgemeinde-schwyz.ch/veranstaltung/29641
SUMMARY:Eucharistiefeier
PRIORITY:5
X-MICROSOFT-CDO-IMPORTANCE:1
CLASS:PUBLIC
END:VEVENT
END:VCALENDAR
