BEGIN:VCALENDAR
PRODID:-//kirchenweb.ch gmbh//veranstaltungsausgabe v2.0//DE
VERSION:2.0
METHOD:PUBLISH
BEGIN:VEVENT
DTSTART:20251102T093000Z
DTEND:20251102T103000Z
LOCATION:Pfarrkirche Schwyz\, Herrengasse 1\, 6430 Schwyz
TRANSP:OPAQUE
SEQUENCE:0
UID:31528-veranstaltung@kirchgemeinde-schwyz.ch
DTSTAMP:20250829T132819Z
DESCRIPTION:Musik: Josef Gruber: Requiem in c-moll\nDer Gottesdienst wird
  übertragen und die Übertragung beginnt ca. 10-15 Minuten zuvor:\n→
  https://livestream.muribaer.ch/schwyz-kk/. oder\n→ Kanal 86 im
  Kabelnetz von EBS.\n\nKontakt: Pfarramt Schwyz\n\nWeitere Infos:
  https://www.kirchgemeinde-schwyz.ch/veranstaltung/31528
SUMMARY:Eucharistiefeier mit Kirchenmusikgesellschaft Schwyz
PRIORITY:5
X-MICROSOFT-CDO-IMPORTANCE:1
CLASS:PUBLIC
END:VEVENT
END:VCALENDAR
