BEGIN:VCALENDAR
PRODID:-//kirchenweb.ch gmbh//veranstaltungsausgabe v2.0//DE
VERSION:2.0
METHOD:PUBLISH
BEGIN:VEVENT
DTSTART:20250201T163000Z
DTEND:20250201T173000Z
LOCATION:Alte Kapelle Seewen\, Engibergweg 2\, 6423 Seewen
TRANSP:OPAQUE
SEQUENCE:0
UID:32052-veranstaltung@kirchgemeinde-schwyz.ch
DTSTAMP:20250126T162104Z
DESCRIPTION:Zum Andenken an Blasius und zu Maria Lichtmess haben die erste
  und zweite Klasse von Seewen eine Kerze verziert. Nach dem Gottesdienst
  und der Segnung dürfen die Kinder ihre Kerze mit nach Hause nehmen.\nWir
  laden alle Kinder\, Eltern\, Geschwister\, Grosseltern und besonders alle
  Erstklässler und Zweitklässler herzlich zum Familiengottesdienst ein.\n
 \nDie Gottesdienstbesuchenden können auch eigene Kerzen zur Segnung
  mitbringen.\n\nStiftjahrzeit für Verein freiwillige Feuerwehr Seewen\,
  die lebenden und verstorbenen Mitglieder\n\nKontakt: Pfarramt Seewen\n
 \nWeitere Infos: https://www.kirchgemeinde-schwyz.ch/veranstaltung/32052
SUMMARY:Familiengottesdienst mit Kerzensegnung und Blasiussegen
PRIORITY:5
X-MICROSOFT-CDO-IMPORTANCE:1
CLASS:PUBLIC
END:VEVENT
END:VCALENDAR
