BEGIN:VCALENDAR
PRODID:-//kirchenweb.ch gmbh//veranstaltungsausgabe v2.0//DE
VERSION:2.0
METHOD:PUBLISH
BEGIN:VEVENT
DTSTART:20251206T163000Z
DTEND:20251206T173000Z
LOCATION:Alte Kapelle Seewen\, Engibergweg 2\, 6423 Seewen
TRANSP:OPAQUE
SEQUENCE:0
UID:32168-veranstaltung@kirchgemeinde-schwyz.ch
DTSTAMP:20250918T060036Z
DESCRIPTION:Kontakt: Pfarramt Seewen\n\nWeitere Infos:
  https://www.kirchgemeinde-schwyz.ch/veranstaltung/32168
SUMMARY:Eucharistiefeier
PRIORITY:5
X-MICROSOFT-CDO-IMPORTANCE:1
CLASS:PUBLIC
END:VEVENT
END:VCALENDAR
