BEGIN:VCALENDAR
PRODID:-//kirchenweb.ch gmbh//veranstaltungsausgabe v2.0//DE
VERSION:2.0
METHOD:PUBLISH
BEGIN:VEVENT
DTSTART:20260525T140000Z
DTEND:20260525T160000Z
LOCATION:Pfarrkirche Ibach\, Gotthardstrasse 87\, 6438 Ibach
TRANSP:OPAQUE
SEQUENCE:0
UID:32644-veranstaltung@kirchgemeinde-schwyz.ch
DTSTAMP:20260416T124850Z
DESCRIPTION:Wir feiern die Firmung in unserem Seelsorgeraum in 2
  Gottesdiensten: in Schwyz und in Ibach. Firmspender ist jeweils Abt
  Christian OSB von Engelberg.\n\nKontakt: Stefan Mettler\n\nWeitere Infos:
  https://www.kirchgemeinde-schwyz.ch/veranstaltung/32644
SUMMARY:Firmung mit Abt Christian OSB
PRIORITY:5
X-MICROSOFT-CDO-IMPORTANCE:1
CLASS:PUBLIC
END:VEVENT
END:VCALENDAR
