BEGIN:VCALENDAR
PRODID:-//kirchenweb.ch gmbh//veranstaltungsausgabe v2.0//DE
VERSION:2.0
METHOD:PUBLISH
BEGIN:VEVENT
DTSTART:20260501T073000Z
DTEND:20260501T150000Z
LOCATION:Schwyz\, \,
TRANSP:OPAQUE
SEQUENCE:0
UID:33681-veranstaltung@kirchgemeinde-schwyz.ch
DTSTAMP:20260204T122919Z
DESCRIPTION:Gebiet: Schlagstrasse\, Burg\, äusserer Haggen\n\nKontakt: P.
  Christu SAC\n\nWeitere Infos:
  https://www.kirchgemeinde-schwyz.ch/veranstaltung/33681
SUMMARY:Landsegnung Schwyz
PRIORITY:5
X-MICROSOFT-CDO-IMPORTANCE:1
CLASS:PUBLIC
END:VEVENT
END:VCALENDAR
