BEGIN:VCALENDAR
PRODID:-//kirchenweb.ch gmbh//veranstaltungsausgabe v2.0//DE
VERSION:2.0
METHOD:PUBLISH
BEGIN:VEVENT
DTSTART:20270129T130000Z
DTEND:20270129T160000Z
LOCATION:Saal UG Pfarrkirche Seewen\, Alte Gasse 19\, 6423 Seewen
TRANSP:OPAQUE
SEQUENCE:0
UID:33842-veranstaltung@kirchgemeinde-schwyz.ch
DTSTAMP:20260313T090206Z
DESCRIPTION:Alle fasnachtsbegeisterten Pensionierten sind eingeladen\, mit
  seiner Hoheit Kaiser Negus Negesti und Mitgliedern aus dem Ras-Kollegium
  und der Nüsslerrott Seewen einige gemütliche Stunden bei Musik und
  bester Unterhaltung zu verbringen.\n\nDie Frauengemeinschaft freut sich
  auf viele Teilnehmende.\n\nKontakt: Frauengemeinschaft Seewen\n\nWeitere
  Infos: https://www.kirchgemeinde-schwyz.ch/veranstaltung/33842
SUMMARY:Ü65-Fasnachtsanlass
PRIORITY:5
X-MICROSOFT-CDO-IMPORTANCE:1
CLASS:PUBLIC
END:VEVENT
END:VCALENDAR
