BEGIN:VCALENDAR
PRODID:-//kirchenweb.ch gmbh//veranstaltungsausgabe v2.0//DE
VERSION:2.0
METHOD:PUBLISH
BEGIN:VEVENT
DTSTART:20261018T150000Z
DTEND:20261018T163000Z
LOCATION:Pfarrkirche Seewen\, Alte Gasse 19\, 6423 Seewen
TRANSP:OPAQUE
SEQUENCE:0
UID:33879-veranstaltung@kirchgemeinde-schwyz.ch
DTSTAMP:20250602T130827Z
DESCRIPTION:Kontakt: Pfarramt Seewen\n\nWeitere Infos:
  https://www.kirchgemeinde-schwyz.ch/veranstaltung/33879
SUMMARY:Konzert Pfarrkirche\, Wood and Metal Connection
PRIORITY:5
X-MICROSOFT-CDO-IMPORTANCE:1
CLASS:PUBLIC
END:VEVENT
END:VCALENDAR
