BEGIN:VCALENDAR
PRODID:-//kirchenweb.ch gmbh//veranstaltungsausgabe v2.0//DE
VERSION:2.0
METHOD:PUBLISH
BEGIN:VEVENT
DTSTART:20260509T153000Z
DTEND:20260509T163000Z
LOCATION:Pfarrkirche Schwyz\, Herrengasse 1\, 6430 Schwyz
TRANSP:OPAQUE
SEQUENCE:0
UID:34634-veranstaltung@kirchgemeinde-schwyz.ch
DTSTAMP:20260402T142016Z
DESCRIPTION:1. Jahresgedächtnis für Margrith Camenzind-Filliger\n\nDer
  Gottesdienst wird übertragen und die Übertragung beginnt ca. 10-15
  Minuten zuvor:\n→ https://livestream.muribaer.ch/schwyz-kk/. oder\n→
  Kanal 86 im Kabelnetz von EBS.\n\nKontakt: Pfarramt Schwyz\n\nWeitere
  Infos: https://www.kirchgemeinde-schwyz.ch/veranstaltung/34634
SUMMARY:Eucharistiefeier
PRIORITY:5
X-MICROSOFT-CDO-IMPORTANCE:1
CLASS:PUBLIC
END:VEVENT
END:VCALENDAR
