BEGIN:VCALENDAR
PRODID:-//kirchenweb.ch gmbh//veranstaltungsausgabe v2.0//DE
VERSION:2.0
METHOD:PUBLISH
BEGIN:VEVENT
DTSTART:20260106T080000Z
DTEND:20260106T090000Z
LOCATION:Pfarrkirche Seewen\, Alte Gasse 19\, 6423 Seewen
TRANSP:OPAQUE
SEQUENCE:0
UID:34681-veranstaltung@kirchgemeinde-schwyz.ch
DTSTAMP:20251229T132721Z
DESCRIPTION:Epiphanie\, Salz- und Weihwassersegnung\, Segensspruch\n
 \nKontakt: Pfarramt Seewen\n\nWeitere Infos:
  https://www.kirchgemeinde-schwyz.ch/veranstaltung/34681
SUMMARY:Eucharistiefeier
PRIORITY:5
X-MICROSOFT-CDO-IMPORTANCE:1
CLASS:PUBLIC
END:VEVENT
END:VCALENDAR
