BEGIN:VCALENDAR
PRODID:-//kirchenweb.ch gmbh//veranstaltungsausgabe v2.0//DE
VERSION:2.0
METHOD:PUBLISH
BEGIN:VEVENT
DTSTART:20260514T083000Z
DTEND:20260514T100000Z
LOCATION:Pfarrkirche Schwyz\, Herrengasse 1\, 6430 Schwyz
TRANSP:OPAQUE
SEQUENCE:0
UID:34812-veranstaltung@kirchgemeinde-schwyz.ch
DTSTAMP:20260416T045541Z
DESCRIPTION:In Erinnerung an Jesu Himmelfahrt\, wird die Christusstatue
  durch die grosse Kuppel in den Dachstock – den Himmel oder eben zur
  «Himmleze» – hinaufgezogen. Traditionell hängen daran Blumenkränze
  oder Sträusse\, die zuvor gesegnet werden. Kinder und Erwachsene sind
  eingeladen\, ihr Blumensträusse mitzubringen und daran aufzuhängen.
  Nach dem Gottesdienst können sie von den Kindern abgeholt werden. \n
 \nDie Pfarrei Schwyz lädt am Mittwoch 13. Mai um 14.00 Uhr ein\, im
  Pfarrhaus Blumen für dieses Anlass zu binden.\n→
  https://www.kirchgemeinde-schwyz.ch/veranstaltung/38075/.\n\nZum Brauch
  gehört auch\, dass die Blumengebinde zu Hause in den Estrich am
  Dachgebälk aufgehängt werden; dies zum Schutz vor Feuer und
  Blitzschlag. \n\nIm Anschluss offeriert die Pfarrei einen Apéro an der
  DankBar.\n\n\n\nDer Gottesdienst wird übertragen und die Übertragung
  beginnt ca. 10-15 Minuten zuvor:\n→
  https://livestream.muribaer.ch/schwyz-kk/. oder\n→ Kanal 86 im
  Kabelnetz von EBS.\n\n\n\nKontakt: Pfarramt Schwyz\n\nWeitere Infos:
  https://www.kirchgemeinde-schwyz.ch/veranstaltung/34812
SUMMARY:Familiengottesdienst zu Christi Himmelfahrt
PRIORITY:5
X-MICROSOFT-CDO-IMPORTANCE:1
CLASS:PUBLIC
END:VEVENT
END:VCALENDAR
