BEGIN:VCALENDAR
PRODID:-//kirchenweb.ch gmbh//veranstaltungsausgabe v2.0//DE
VERSION:2.0
METHOD:PUBLISH
BEGIN:VEVENT
DTSTART:20260503T153000Z
DTEND:20260503T161500Z
LOCATION:Pfarrkirche Seewen\, Alte Gasse 19\, 6423 Seewen
TRANSP:OPAQUE
SEQUENCE:0
UID:34840-veranstaltung@kirchgemeinde-schwyz.ch
DTSTAMP:20260120T102822Z
DESCRIPTION:Am ersten Sonntag im Monat begeht die Pfarrei Seewen den
  Wallfahrtstag zur lieben Gnadenmutter von Seewen. In den Gottesdiensten
  und speziell in der Wallfahrtsandacht am Sonntagabend um 17.30 Uhr wird
  den Gebetsanliegen gedacht. \nGebetsanliegen können im Fürbittebuch in
  der Kirche eingetragen oder den Seelsorgenden anvertraut werden.\n
 \nKontakt: Pfarramt Seewen\n\nWeitere Infos:
  https://www.kirchgemeinde-schwyz.ch/veranstaltung/34840
SUMMARY:Andacht
PRIORITY:5
X-MICROSOFT-CDO-IMPORTANCE:1
CLASS:PUBLIC
END:VEVENT
END:VCALENDAR
