BEGIN:VCALENDAR
PRODID:-//kirchenweb.ch gmbh//veranstaltungsausgabe v2.0//DE
VERSION:2.0
METHOD:PUBLISH
BEGIN:VEVENT
DTSTART:20260502T153000Z
DTEND:20260502T163000Z
LOCATION:Alte Kapelle Seewen\, Engibergweg 2\, 6423 Seewen
TRANSP:OPAQUE
SEQUENCE:0
UID:34861-veranstaltung@kirchgemeinde-schwyz.ch
DTSTAMP:20260120T102811Z
DESCRIPTION:Kontakt: Pfarramt Seewen\n\nWeitere Infos:
  https://www.kirchgemeinde-schwyz.ch/veranstaltung/34861
SUMMARY:Wortgottesfeier
PRIORITY:5
X-MICROSOFT-CDO-IMPORTANCE:1
CLASS:PUBLIC
END:VEVENT
END:VCALENDAR
