BEGIN:VCALENDAR
PRODID:-//kirchenweb.ch gmbh//veranstaltungsausgabe v2.0//DE
VERSION:2.0
METHOD:PUBLISH
BEGIN:VEVENT
DTSTART:20260801T080000Z
DTEND:20260801T090000Z
LOCATION:Kirche Kollegium Schwyz\, \, 6430 Schwyz
TRANSP:OPAQUE
SEQUENCE:0
UID:34874-veranstaltung@kirchgemeinde-schwyz.ch
DTSTAMP:20260402T143304Z
DESCRIPTION:Anschliessend findet die Bundesfeier voraussichtlich im
  Festzelt auf dem Hauptplatz statt.\n\nKontakt: Pfarramt Schwyz\n\nWeitere
  Infos: https://www.kirchgemeinde-schwyz.ch/veranstaltung/34874
SUMMARY:Eucharistiefeier zum Bundesfeiertag
PRIORITY:5
X-MICROSOFT-CDO-IMPORTANCE:1
CLASS:PUBLIC
END:VEVENT
END:VCALENDAR
