BEGIN:VCALENDAR
PRODID:-//kirchenweb.ch gmbh//veranstaltungsausgabe v2.0//DE
VERSION:2.0
METHOD:PUBLISH
BEGIN:VEVENT
DTSTART:20261002T070000Z
DTEND:20261002T074500Z
LOCATION:Pfarrkirche Seewen\, Alte Gasse 19\, 6423 Seewen
TRANSP:OPAQUE
SEQUENCE:0
UID:34995-veranstaltung@kirchgemeinde-schwyz.ch
DTSTAMP:20260313T140314Z
DESCRIPTION:Herz-Jesu-Freitag\n\nDas Sakrament der Krankensalbung hilft\,
  Krankheit und Altersbeschwerden in Gemeinschaft mit Gott und Gottes Hilfe
  gut zu bestehen. Auch junge Menschen werden krank und brauchen Stärkung
  und Ermutigung.\n\nIm Anschluss an den Gottesdienst sind alle zu Kaffee
  und Gipfeli in den Pfarreisaal eingeladen.\n\nKontakt: Pfarramt Seewen\n
 \nWeitere Infos: https://www.kirchgemeinde-schwyz.ch/veranstaltung/34995
SUMMARY:Eucharistiefeier mit gemeinschaftlicher Krankensalbung
PRIORITY:5
X-MICROSOFT-CDO-IMPORTANCE:1
CLASS:PUBLIC
END:VEVENT
END:VCALENDAR
