BEGIN:VCALENDAR
PRODID:-//kirchenweb.ch gmbh//veranstaltungsausgabe v2.0//DE
VERSION:2.0
METHOD:PUBLISH
BEGIN:VEVENT
DTSTART:20250908T100000Z
DTEND:20250908T120000Z
LOCATION:Restaurant Divan\, Bahnhofstrasse 172\, 6423 Seewen
TRANSP:OPAQUE
SEQUENCE:0
UID:35250-veranstaltung@kirchgemeinde-schwyz.ch
DTSTAMP:20250718T131236Z
DESCRIPTION:Alle Seniorinnen und Senioren sind jeweils einmal im Monat an
  einem Montag eingeladen\, sich zum gemeinsamen Mittagessen im Restaurant
  Divan zu treffen.\n\nAnmeldungen nimmt das Restaurant gerne direkt
  entgegen.\n\nDaten Mittagstisch 2025:\n\n18. August\n8. September\n20.
  Oktober\n10. November\n15. Dezember\n\nAnmeldung jeweils telefonisch oder
  per Mail an:\n✆ 079 323 51 10\ninfo@divan-burek.ch\n\n\n\nKontakt:
  Pfarramt Seewen\n\nWeitere Infos:
  https://www.kirchgemeinde-schwyz.ch/veranstaltung/35250
SUMMARY:Senioren-Mittagstisch
PRIORITY:5
X-MICROSOFT-CDO-IMPORTANCE:1
CLASS:PUBLIC
END:VEVENT
END:VCALENDAR
