BEGIN:VCALENDAR
PRODID:-//kirchenweb.ch gmbh//veranstaltungsausgabe v2.0//DE
VERSION:2.0
METHOD:PUBLISH
BEGIN:VEVENT
DTSTART:20260419T081500Z
DTEND:20260419T091500Z
LOCATION:Kapelle Aufiberg\, Plätzli\, 6432 Aufiberg
TRANSP:OPAQUE
SEQUENCE:0
UID:35437-veranstaltung@kirchgemeinde-schwyz.ch
DTSTAMP:20251223T060452Z
DESCRIPTION:Gottesdienst immer am 1. und 3. Sonntag im Monat.\n\nKontakt:
  Pfarramt Schwyz\n\nWeitere Infos:
  https://www.kirchgemeinde-schwyz.ch/veranstaltung/35437
SUMMARY:Wortgottesfeier Aufiberg
PRIORITY:5
X-MICROSOFT-CDO-IMPORTANCE:1
CLASS:PUBLIC
END:VEVENT
END:VCALENDAR
