BEGIN:VCALENDAR
PRODID:-//kirchenweb.ch gmbh//veranstaltungsausgabe v2.0//DE
VERSION:2.0
METHOD:PUBLISH
BEGIN:VEVENT
DTSTART:20260517T163000Z
DTEND:20260517T173000Z
LOCATION:Hl. Verena Tschütschi\, \, 6432 Schwyz
TRANSP:OPAQUE
SEQUENCE:0
UID:36122-veranstaltung@kirchgemeinde-schwyz.ch
DTSTAMP:20251231T172935Z
DESCRIPTION:Kontakt: Sr. M. Baptista\n\nWeitere Infos:
  https://www.kirchgemeinde-schwyz.ch/veranstaltung/36122
SUMMARY:Maiandacht
PRIORITY:5
X-MICROSOFT-CDO-IMPORTANCE:1
CLASS:PUBLIC
END:VEVENT
END:VCALENDAR
