BEGIN:VCALENDAR
PRODID:-//kirchenweb.ch gmbh//veranstaltungsausgabe v2.0//DE
VERSION:2.0
METHOD:PUBLISH
BEGIN:VEVENT
DTSTART:20270827T140000Z
DTEND:20270827T200000Z
LOCATION:Zentrum Schwyz\, \,
TRANSP:OPAQUE
SEQUENCE:0
UID:36219-veranstaltung@kirchgemeinde-schwyz.ch
DTSTAMP:20251219T110959Z
DESCRIPTION:Kontakt: Patrick Schneider\n\nWeitere Infos:
  https://www.kirchgemeinde-schwyz.ch/veranstaltung/36219
SUMMARY:Gmeindsfäscht
PRIORITY:5
X-MICROSOFT-CDO-IMPORTANCE:1
CLASS:PUBLIC
END:VEVENT
END:VCALENDAR
