BEGIN:VCALENDAR
PRODID:-//kirchenweb.ch gmbh//veranstaltungsausgabe v2.0//DE
VERSION:2.0
METHOD:PUBLISH
BEGIN:VEVENT
DTSTART:20260516T140000Z
DTEND:20260516T160000Z
LOCATION:St. Fridolin Ried\, \, 6430 Schwyz
TRANSP:OPAQUE
SEQUENCE:0
UID:36225-veranstaltung@kirchgemeinde-schwyz.ch
DTSTAMP:20260304T182407Z
DESCRIPTION:Kontakt: Armando Auf der Maur\n\nWeitere Infos:
  https://www.kirchgemeinde-schwyz.ch/veranstaltung/36225
SUMMARY:Landsegnung Ried
PRIORITY:5
X-MICROSOFT-CDO-IMPORTANCE:1
CLASS:PUBLIC
END:VEVENT
END:VCALENDAR
