BEGIN:VCALENDAR
PRODID:-//kirchenweb.ch gmbh//veranstaltungsausgabe v2.0//DE
VERSION:2.0
METHOD:PUBLISH
BEGIN:VEVENT
DTSTART:20261021T173000Z
DTEND:20261021T183000Z
LOCATION:Pfarrkirche Ibach\, Gotthardstrasse 87\, 6438 Ibach
TRANSP:OPAQUE
SEQUENCE:0
UID:36572-veranstaltung@kirchgemeinde-schwyz.ch
DTSTAMP:20260216T091154Z
DESCRIPTION:Kontakt: pfarramt.ibach@kirchgemeinde-schwyz.ch\n\nWeitere
  Infos: https://www.kirchgemeinde-schwyz.ch/veranstaltung/36572
SUMMARY:Oktoberandacht\, FVI und KAB
PRIORITY:5
X-MICROSOFT-CDO-IMPORTANCE:1
CLASS:PUBLIC
END:VEVENT
END:VCALENDAR
