BEGIN:VCALENDAR
PRODID:-//kirchenweb.ch gmbh//veranstaltungsausgabe v2.0//DE
VERSION:2.0
METHOD:PUBLISH
BEGIN:VEVENT
DTSTART:20261215T183000Z
DTEND:20261215T193000Z
LOCATION:Pfarrkirche Schwyz\, Herrengasse 1\, 6430 Schwyz
TRANSP:OPAQUE
SEQUENCE:0
UID:36610-veranstaltung@kirchgemeinde-schwyz.ch
DTSTAMP:20251217T080928Z
DESCRIPTION:Meditatives und ökumenisches Abendgebet mit Gesängen aus
  Taizé\n\nKontakt: Pfarramt Schwyz\n\nWeitere Infos:
  https://www.kirchgemeinde-schwyz.ch/veranstaltung/36610
SUMMARY:Taizé-Gebet Schwyz
PRIORITY:5
X-MICROSOFT-CDO-IMPORTANCE:1
CLASS:PUBLIC
END:VEVENT
END:VCALENDAR
