BEGIN:VCALENDAR
PRODID:-//kirchenweb.ch gmbh//veranstaltungsausgabe v2.0//DE
VERSION:2.0
METHOD:PUBLISH
BEGIN:VEVENT
DTSTART:20260522T150000Z
DTEND:20260522T160000Z
LOCATION:Vorplatz Kirche Ibach\, \, 6438 Ibach
TRANSP:OPAQUE
SEQUENCE:0
UID:36615-veranstaltung@kirchgemeinde-schwyz.ch
DTSTAMP:20260328T105331Z
DESCRIPTION:Kontakt: Pfarramt Ibach\n\nWeitere Infos:
  https://www.kirchgemeinde-schwyz.ch/veranstaltung/36615
SUMMARY:Chinderfiir Pfingstfeier am Feuer
PRIORITY:5
X-MICROSOFT-CDO-IMPORTANCE:1
CLASS:PUBLIC
END:VEVENT
END:VCALENDAR
