BEGIN:VCALENDAR
PRODID:-//kirchenweb.ch gmbh//veranstaltungsausgabe v2.0//DE
VERSION:2.0
METHOD:PUBLISH
BEGIN:VEVENT
DTSTART:20261224T150000Z
DTEND:20261224T160000Z
LOCATION:Pfarrkirche Ibach\, Gotthardstrasse 87\, 6438 Ibach
TRANSP:OPAQUE
SEQUENCE:0
UID:36619-veranstaltung@kirchgemeinde-schwyz.ch
DTSTAMP:20251217T161408Z
DESCRIPTION:Kontakt: Pfarramt Ibach\n\nWeitere Infos:
  https://www.kirchgemeinde-schwyz.ch/veranstaltung/36619
SUMMARY:Chinderfiir Weihnachten
PRIORITY:5
X-MICROSOFT-CDO-IMPORTANCE:1
CLASS:PUBLIC
END:VEVENT
END:VCALENDAR
