BEGIN:VCALENDAR
PRODID:-//kirchenweb.ch gmbh//veranstaltungsausgabe v2.0//DE
VERSION:2.0
METHOD:PUBLISH
BEGIN:VEVENT
DTSTART:20270828T153000Z
DTEND:20270828T163000Z
LOCATION:Pfarrkirche Schwyz\, Herrengasse 1\, 6430 Schwyz
TRANSP:OPAQUE
SEQUENCE:0
UID:36624-veranstaltung@kirchgemeinde-schwyz.ch
DTSTAMP:20251219T110304Z
DESCRIPTION:Familiengottesdienst am Gmeindsfäscht\n\nKontakt: Patrick
  Schneider\n\nWeitere Infos:
  https://www.kirchgemeinde-schwyz.ch/veranstaltung/36624
SUMMARY:Familiengottesdienst am Gmeindsfäscht
PRIORITY:5
X-MICROSOFT-CDO-IMPORTANCE:1
CLASS:PUBLIC
END:VEVENT
END:VCALENDAR
