BEGIN:VCALENDAR
PRODID:-//kirchenweb.ch gmbh//veranstaltungsausgabe v2.0//DE
VERSION:2.0
METHOD:PUBLISH
BEGIN:VEVENT
DTSTART:20261123T090000Z
DTEND:20261123T100000Z
LOCATION:Alterszentrum Acherhof\, Grundstrasse 32A\, 6430 Schwyz
TRANSP:OPAQUE
SEQUENCE:0
UID:36855-veranstaltung@kirchgemeinde-schwyz.ch
DTSTAMP:20251220T133351Z
DESCRIPTION:Kontakt: Mary-Claude Lottenbach\n\nWeitere Infos:
  https://www.kirchgemeinde-schwyz.ch/veranstaltung/36855
SUMMARY:Wortgottesfeier
PRIORITY:5
X-MICROSOFT-CDO-IMPORTANCE:1
CLASS:PUBLIC
END:VEVENT
END:VCALENDAR
