BEGIN:VCALENDAR
PRODID:-//kirchenweb.ch gmbh//veranstaltungsausgabe v2.0//DE
VERSION:2.0
METHOD:PUBLISH
BEGIN:VEVENT
DTSTART:20270411T150000Z
DTEND:20270411T170000Z
LOCATION:Pfarrkirche Seewen\, Alte Gasse 19\, 6423 Seewen
TRANSP:OPAQUE
SEQUENCE:0
UID:37437-veranstaltung@kirchgemeinde-schwyz.ch
DTSTAMP:20251223T084307Z
DESCRIPTION:Konzert Orchester Schwyz-Brunnen\n\nKontakt: Pfarramt Seewen\n
 \nWeitere Infos: https://www.kirchgemeinde-schwyz.ch/veranstaltung/37437
SUMMARY:Konzert Pfarrkirche
PRIORITY:5
X-MICROSOFT-CDO-IMPORTANCE:1
CLASS:PUBLIC
END:VEVENT
END:VCALENDAR
