BEGIN:VCALENDAR
PRODID:-//kirchenweb.ch gmbh//veranstaltungsausgabe v2.0//DE
VERSION:2.0
METHOD:PUBLISH
BEGIN:VEVENT
DTSTART:20261122T180000Z
DTEND:20261122T190000Z
LOCATION:Evang-ref. Chilezentrum Schwyz\, Schmiedgasse 34\, 6430 Schwyz.
TRANSP:OPAQUE
SEQUENCE:0
UID:37551-veranstaltung@kirchgemeinde-schwyz.ch
DTSTAMP:20260105T080421Z
DESCRIPTION:Ein ökumenischer Gottesdienst mit vielen Kerzen\, wenig
  Worten und langen\, meditativen Gesängen. Die Feier orientiert sich an
  der Spiritualität der internationalen Brüdergemeinschaft von Taizé.\n
 \nDie Nacht der Lichter beginnt um 18.30 Uhr mit einem kurzen Ansingen und
  einüben von einigen Liedern und Antwortgesängen und um 19.00 Uhr
  startet die eigentliche Feier.\n\nKontakt:
  margret.strueby@kirchgemeinde-schwyz.ch\n\nWeitere Infos:
  https://www.kirchgemeinde-schwyz.ch/veranstaltung/37551
SUMMARY:Ökumenische Nacht der Lichter
PRIORITY:5
X-MICROSOFT-CDO-IMPORTANCE:1
CLASS:PUBLIC
END:VEVENT
END:VCALENDAR
