BEGIN:VCALENDAR
PRODID:-//kirchenweb.ch gmbh//veranstaltungsausgabe v2.0//DE
VERSION:2.0
METHOD:PUBLISH
BEGIN:VEVENT
DTSTART:20270411T153000Z
DTEND:20270411T190000Z
LOCATION:Pfarrkirche Seewen\, Alte Gasse 19\, 6423 Seewen
TRANSP:OPAQUE
SEQUENCE:0
UID:37568-veranstaltung@kirchgemeinde-schwyz.ch
DTSTAMP:20260113T082041Z
DESCRIPTION:Kontakt: vreny.schilter@kirchgemeinde-schwyz.ch\n\nWeitere
  Infos: https://www.kirchgemeinde-schwyz.ch/veranstaltung/37568
SUMMARY:Konzert Orchester schwyz-Brunnen
PRIORITY:5
X-MICROSOFT-CDO-IMPORTANCE:1
CLASS:PUBLIC
END:VEVENT
END:VCALENDAR
