BEGIN:VCALENDAR
PRODID:-//kirchenweb.ch gmbh//veranstaltungsausgabe v2.0//DE
VERSION:2.0
METHOD:PUBLISH
BEGIN:VEVENT
DTSTART:20260507T100000Z
DTEND:20260507T120000Z
LOCATION:Restaurant Divan \, Bahnhofstrasse 172\, 6423 Seewen
TRANSP:OPAQUE
SEQUENCE:0
UID:37574-veranstaltung@kirchgemeinde-schwyz.ch
DTSTAMP:20260206T072939Z
DESCRIPTION:Alle Seniorinnen und Senioren sind jeweils 1x im Monat an
  einem Donnerstag eingeladen\, sich zu einem gemeinsamen Mittagessen im
  Restaurannt Divan zu treffen.\n\nKontakt: Kolping Seewen\n\nWeitere
  Infos: https://www.kirchgemeinde-schwyz.ch/veranstaltung/37574
SUMMARY:Senioren Mittagstisch
PRIORITY:5
X-MICROSOFT-CDO-IMPORTANCE:1
CLASS:PUBLIC
END:VEVENT
END:VCALENDAR
