BEGIN:VCALENDAR
PRODID:-//kirchenweb.ch gmbh//veranstaltungsausgabe v2.0//DE
VERSION:2.0
METHOD:PUBLISH
BEGIN:VEVENT
DTSTART:20260425T160000Z
DTEND:20260425T180000Z
LOCATION:18.00 Eingang Tierpark\, \,
TRANSP:OPAQUE
SEQUENCE:0
UID:37599-veranstaltung@kirchgemeinde-schwyz.ch
DTSTAMP:20260120T094625Z
DESCRIPTION:Kontakt: Mary-Claude Lottenbach\n\nWeitere Infos:
  https://www.kirchgemeinde-schwyz.ch/veranstaltung/37599
SUMMARY:Kolping Abendrundgang Tierpark Goldau
PRIORITY:5
X-MICROSOFT-CDO-IMPORTANCE:1
CLASS:PUBLIC
END:VEVENT
END:VCALENDAR
