BEGIN:VCALENDAR
PRODID:-//kirchenweb.ch gmbh//veranstaltungsausgabe v2.0//DE
VERSION:2.0
METHOD:PUBLISH
BEGIN:VEVENT
DTSTART:20261224T153000Z
DTEND:20261224T161500Z
LOCATION:Pfarrkirche Seewen\, Alte Gasse 19\, 6423 Seewen
TRANSP:OPAQUE
SEQUENCE:0
UID:37626-veranstaltung@kirchgemeinde-schwyz.ch
DTSTAMP:20260206T125554Z
DESCRIPTION:Am Heiligen Abend laden wir Kinder und Erwachsene ein\, sich
  in der festlich geschmückten Pfarrkirche auf Heiligabend und Weihnachten
  einzustimmen.\nEs wird ein Krippenspiel aufgeführt\, und wir singen
  bekannte Weihnachtslieder. \nWir freuen sich auf viele kleine und grosse
  Besuchende.\n\n\n\nKontakt: Pfarramt Seewen\n\nWeitere Infos:
  https://www.kirchgemeinde-schwyz.ch/veranstaltung/37626
SUMMARY:Familiengottesdienst
PRIORITY:5
X-MICROSOFT-CDO-IMPORTANCE:1
CLASS:PUBLIC
END:VEVENT
END:VCALENDAR
