BEGIN:VCALENDAR
PRODID:-//kirchenweb.ch gmbh//veranstaltungsausgabe v2.0//DE
VERSION:2.0
METHOD:PUBLISH
BEGIN:VEVENT
DTSTART:20260421T144500Z
DTEND:20260421T153000Z
LOCATION:Pfarrhaus\, Herrengasse 22\, 6430 Schwyz
TRANSP:OPAQUE
SEQUENCE:0
UID:37643-veranstaltung@kirchgemeinde-schwyz.ch
DTSTAMP:20260402T062430Z
DESCRIPTION:Probe Kinderband. Alle Infos gibt es
  https://www.kirchgemeinde-schwyz.ch/bericht/2072\n\nKontakt: Mirjam Waser
 \n\nWeitere Infos: https://www.kirchgemeinde-schwyz.ch/veranstaltung/37643
SUMMARY:Probe Kinderband
PRIORITY:5
X-MICROSOFT-CDO-IMPORTANCE:1
CLASS:PUBLIC
END:VEVENT
END:VCALENDAR
