BEGIN:VCALENDAR
PRODID:-//kirchenweb.ch gmbh//veranstaltungsausgabe v2.0//DE
VERSION:2.0
METHOD:PUBLISH
BEGIN:VEVENT
DTSTART:20261224T160000Z
DTEND:20261224T170000Z
LOCATION:Pfarrkirche Schwyz\, Herrengasse 1\, 6430 Schwyz
TRANSP:OPAQUE
SEQUENCE:0
UID:37648-veranstaltung@kirchgemeinde-schwyz.ch
DTSTAMP:20260227T102750Z
DESCRIPTION:https://upstream-live.ch/live/sacralis-iframe/embed-kschwyz.ht
 ml\n\n\n\nKontakt: Pfarramt Schwyz\n\nWeitere Infos:
  https://www.kirchgemeinde-schwyz.ch/veranstaltung/37648
SUMMARY:Familiengottesdienst mit Krippenspiel
PRIORITY:5
X-MICROSOFT-CDO-IMPORTANCE:1
CLASS:PUBLIC
END:VEVENT
END:VCALENDAR
