BEGIN:VCALENDAR
PRODID:-//kirchenweb.ch gmbh//veranstaltungsausgabe v2.0//DE
VERSION:2.0
METHOD:PUBLISH
BEGIN:VEVENT
DTSTART:20261108T160000Z
DTEND:20261108T173000Z
LOCATION:Alte Kapelle Seewen\, Engibergweg 2\, 6423 Seewen
TRANSP:OPAQUE
SEQUENCE:0
UID:37719-veranstaltung@kirchgemeinde-schwyz.ch
DTSTAMP:20260212T105531Z
DESCRIPTION:Kontakt: Pfarramt Seewen\n\nWeitere Infos:
  https://www.kirchgemeinde-schwyz.ch/veranstaltung/37719
SUMMARY:Konzert Frauenchor Schwyz
PRIORITY:5
X-MICROSOFT-CDO-IMPORTANCE:1
CLASS:PUBLIC
END:VEVENT
END:VCALENDAR
