BEGIN:VCALENDAR
PRODID:-//kirchenweb.ch gmbh//veranstaltungsausgabe v2.0//DE
VERSION:2.0
METHOD:PUBLISH
BEGIN:VEVENT
DTSTART:20261030T074500Z
DTEND:20261030T084500Z
LOCATION:Pfarrkirche Ibach\, Gotthardstrasse 87\, 6438 Ibach
TRANSP:OPAQUE
SEQUENCE:0
UID:37747-veranstaltung@kirchgemeinde-schwyz.ch
DTSTAMP:20260216T064519Z
DESCRIPTION:Kontakt: Pfarramt Ibach\n\nWeitere Infos:
  https://www.kirchgemeinde-schwyz.ch/veranstaltung/37747
SUMMARY:Eucharistiefeier
PRIORITY:5
X-MICROSOFT-CDO-IMPORTANCE:1
CLASS:PUBLIC
END:VEVENT
END:VCALENDAR
