BEGIN:VCALENDAR
PRODID:-//kirchenweb.ch gmbh//veranstaltungsausgabe v2.0//DE
VERSION:2.0
METHOD:PUBLISH
BEGIN:VEVENT
DTSTART:20261018T080000Z
DTEND:20261018T090000Z
LOCATION:Pfarrkirche Ibach\, Gotthardstrasse 87\, 6438 Ibach
TRANSP:OPAQUE
SEQUENCE:0
UID:37759-veranstaltung@kirchgemeinde-schwyz.ch
DTSTAMP:20260317T143342Z
DESCRIPTION:Weltmissionssontag\n\nKontakt: Pfarramt Ibach\n\nWeitere
  Infos: https://www.kirchgemeinde-schwyz.ch/veranstaltung/37759
SUMMARY:Eucharistiefeier
PRIORITY:5
X-MICROSOFT-CDO-IMPORTANCE:1
CLASS:PUBLIC
END:VEVENT
END:VCALENDAR
