BEGIN:VCALENDAR
PRODID:-//kirchenweb.ch gmbh//veranstaltungsausgabe v2.0//DE
VERSION:2.0
METHOD:PUBLISH
BEGIN:VEVENT
DTSTART:20261224T210000Z
DTEND:20261224T220000Z
LOCATION:Pfarrkirche Ibach\, Gotthardstrasse 87\, 6438 Ibach
TRANSP:OPAQUE
SEQUENCE:0
UID:37833-veranstaltung@kirchgemeinde-schwyz.ch
DTSTAMP:20260216T094005Z
DESCRIPTION:\n\nKontakt: pfarramt.ibach@kirchgemeinde-schwyz.ch\n\nWeitere
  Infos: https://www.kirchgemeinde-schwyz.ch/veranstaltung/37833
SUMMARY:Mitternachtsmesse
PRIORITY:5
X-MICROSOFT-CDO-IMPORTANCE:1
CLASS:PUBLIC
END:VEVENT
END:VCALENDAR
