BEGIN:VCALENDAR
PRODID:-//kirchenweb.ch gmbh//veranstaltungsausgabe v2.0//DE
VERSION:2.0
METHOD:PUBLISH
BEGIN:VEVENT
DTSTART:20260630T150000Z
DTEND:20260630T170000Z
LOCATION:Pfarrhaus\, Herrengasse 22\, 6430 Schwyz
TRANSP:OPAQUE
SEQUENCE:0
UID:37909-veranstaltung@kirchgemeinde-schwyz.ch
DTSTAMP:20260312T085806Z
DESCRIPTION:Die Kinderband unter der Leitung von Mirjam Waser lädt zum
  Kinderband Fäschtli ein. Es findet im Pfarrhaus statt. \nDas Konzert
  beginnt um 18.30 Uhr mit anschliessendem Apero. \nHerzlich willkommen!\n
 \n\nKontakt: Mirjam Waser\n\nWeitere Infos:
  https://www.kirchgemeinde-schwyz.ch/veranstaltung/37909
SUMMARY:Kinderband Fäschtli
PRIORITY:5
X-MICROSOFT-CDO-IMPORTANCE:1
CLASS:PUBLIC
END:VEVENT
END:VCALENDAR
