BEGIN:VCALENDAR
PRODID:-//kirchenweb.ch gmbh//veranstaltungsausgabe v2.0//DE
VERSION:2.0
METHOD:PUBLISH
BEGIN:VEVENT
DTSTART:20261207T130000Z
DTEND:20261207T140000Z
LOCATION:Saal UG Pfarrkirche Seewen\, Alte Gasse 19\, 6423 Seewen
TRANSP:OPAQUE
SEQUENCE:0
UID:37958-veranstaltung@kirchgemeinde-schwyz.ch
DTSTAMP:20260313T083404Z
DESCRIPTION:Ale pensionierten Seebnerinnen und Seebner sind herzlich zu
  diesem besinnlich-fröhlichen Nachmittag eingeladen. Die
  Frauengemeinschaft freut sich auf jeden Besuch.\n\nKontakt:
  Frauengemeinschaft Seewen\n\nWeitere Infos:
  https://www.kirchgemeinde-schwyz.ch/veranstaltung/37958
SUMMARY:Ü65-Samichlausnachmittag
PRIORITY:5
X-MICROSOFT-CDO-IMPORTANCE:1
CLASS:PUBLIC
END:VEVENT
END:VCALENDAR
